BEGIN:VCALENDAR
VERSION:2.0
PRODID:-//Vanilla Gorilla Security - ECPv6.15.20//NONSGML v1.0//EN
CALSCALE:GREGORIAN
METHOD:PUBLISH
X-WR-CALNAME:Vanilla Gorilla Security
X-ORIGINAL-URL:https://vanillagorillasecurity.com
X-WR-CALDESC:Events for Vanilla Gorilla Security
REFRESH-INTERVAL;VALUE=DURATION:PT1H
X-Robots-Tag:noindex
X-PUBLISHED-TTL:PT1H
BEGIN:VTIMEZONE
TZID:America/Chicago
BEGIN:DAYLIGHT
TZOFFSETFROM:-0600
TZOFFSETTO:-0500
TZNAME:CDT
DTSTART:20250309T080000
END:DAYLIGHT
BEGIN:STANDARD
TZOFFSETFROM:-0500
TZOFFSETTO:-0600
TZNAME:CST
DTSTART:20251102T070000
END:STANDARD
BEGIN:DAYLIGHT
TZOFFSETFROM:-0600
TZOFFSETTO:-0500
TZNAME:CDT
DTSTART:20260308T080000
END:DAYLIGHT
BEGIN:STANDARD
TZOFFSETFROM:-0500
TZOFFSETTO:-0600
TZNAME:CST
DTSTART:20261101T070000
END:STANDARD
BEGIN:DAYLIGHT
TZOFFSETFROM:-0600
TZOFFSETTO:-0500
TZNAME:CDT
DTSTART:20270314T080000
END:DAYLIGHT
BEGIN:STANDARD
TZOFFSETFROM:-0500
TZOFFSETTO:-0600
TZNAME:CST
DTSTART:20271107T070000
END:STANDARD
END:VTIMEZONE
BEGIN:VEVENT
DTSTART;TZID=America/Chicago:20260627T090000
DTEND;TZID=America/Chicago:20260627T150000
DTSTAMP:20260425T070126
CREATED:20260417T220342Z
LAST-MODIFIED:20260417T220342Z
UID:10000021-1782550800-1782572400@vanillagorillasecurity.com
SUMMARY:CQC Level 1
DESCRIPTION:Close Quarters Clearance – 1 Day\n\n\n\n\nCQC is often associated with military and law enforcement training\, but is just as applicable for civilians who want to learn how to defend themselves or their families from a home invasion. In CQC fundamentals\, students will learn how to move tactically in and around rooms and spaces that contain an active threat. \n\nThis is an introductory course to learn the fundamentals of 2 person deliberate clearance.  \n\nTopics include\n\nDeliberate CQC advantages and application\nDeliberate VS Dynamic (Hostage Rescue) philosophy\nWeapons positions during movement\nWeapons safety and manipulation\nActions at the door/threshold assessments\nRoom pie methods (1& 2 person)\n2 person actions inside the room\nPrioritization of threats and target identification\nDe-escalation methods from the threshold\n\nGear Requirements \n\nAR .556 style rifle with magazines\nIf students don’t have an AR\, they will be issued Glock UTM pistols and ammunition for an additional cost of $50\nEye protection\nFor your AR\, you need a standard lower and buffer assembly to be compatible with UTM bolts. (i.e. not a law tactical side folder or a JP silent capture bolt carrier)\n\n\n\n\nCancellations: Full refund if cancelled within 30 days of class start.
URL:https://vanillagorillasecurity.com/register/cqc-level-1-june
LOCATION:Groveland\, 18603 Springfield road\, Groveland\, IL\, United States
END:VEVENT
BEGIN:VEVENT
DTSTART;TZID=America/Chicago:20260621T090000
DTEND;TZID=America/Chicago:20260621T150000
DTSTAMP:20260425T070126
CREATED:20260417T220237Z
LAST-MODIFIED:20260417T220237Z
UID:10000020-1782032400-1782054000@vanillagorillasecurity.com
SUMMARY:Pistol 3
DESCRIPTION:Pistol 3 – 1 Day\n\n\n\n\nShooters are challenged with speed\, accuracy & decision-making under stress. Students will move through various facades (i.e. doors and barricades) to develop skills necessary to react defensively in a CQC environment. \nGear Requirements \n\nBring Personal Firearm: Pistol\nBring 300 rds of ammo\nBring an outside-the-waistband holster for ALL pistol courses\nBattle belts are recommended for Pistol 2 & 3\nBring Clear Lens Eye Protection\nBring Ear Protection\nPistol Magazines & spare magazine pouch for additional mags\nWater / Snacks\nProper range attire: Athletic\, tactical or comfortable clothing (pants & high-neckline shirt)\nNo low-cut tops (prevent hot brass burns)\nClosed-toe shoes\nDress for the weather\n\n\n\n\nCancellations: Full refund if canceled within 30 days of class start.
URL:https://vanillagorillasecurity.com/register/pistol-30-june
LOCATION:Aurora Sportsman’s Club\, 7858 Preserve Rd\, Waterman\, IL\, 60556\, United States
END:VEVENT
BEGIN:VEVENT
DTSTART;TZID=America/Chicago:20260620T090000
DTEND;TZID=America/Chicago:20260620T150000
DTSTAMP:20260425T070126
CREATED:20260417T215631Z
LAST-MODIFIED:20260417T215631Z
UID:10000019-1781946000-1781967600@vanillagorillasecurity.com
SUMMARY:Live fire CQC Home Defense
DESCRIPTION:Live fire CQC Home Defense\n\n\n\n\nThis is an introductory course for students to learn the fundamentals of CQC in a home defense environment. \nTopics include\n\nDeliberate CQC advantages and application\nDeliberate VS Dynamic philosophy\nWeapons positions during movement\nWeapons safety and manipulation\nActions at the door/threshold assessments\nRoom pie methods (1 person)\n1 person actions inside the room\nPrioritization of threats and target identification\nDe-escalation methods from the threshold\n\nGear Requirements \n\nClear Lens Eye Protection\nEar Protection\nPersonal Firearm: Pistol or AR .556 Rifle\nAmmo: At least 60 rounds\nOutside or inside the waistband holster\nSling if running a rifle\nPistol/ rifle Magazines & spare magazine pouch for additional mags\nWater / Snack\nProper range attire:\nAthletic\, tactical\, or comfortable clothing (pants & high-neckline shirt)\nNo low-cut tops (prevent hot brass burns)\nClosed-toe shoes\nDress for the weather\n\n\n\n\nCancellations: Full refund if cancelled within 30 days of class start.
URL:https://vanillagorillasecurity.com/register/live-fire-cqc-home-defense-june-20
LOCATION:Aurora Sportsman’s Club\, 7858 Preserve Rd\, Waterman\, IL\, 60556\, United States
END:VEVENT
BEGIN:VEVENT
DTSTART;TZID=America/Chicago:20260614T090000
DTEND;TZID=America/Chicago:20260614T150000
DTSTAMP:20260425T070126
CREATED:20260420T164941Z
LAST-MODIFIED:20260421T131522Z
UID:10000018-1781427600-1781449200@vanillagorillasecurity.com
SUMMARY:Defensive Vehicle 1
DESCRIPTION:Defensive Vehicle 1\n\n\n\n\nDefensive Vehicle 1 is an introductory course designed to teach students the fundamentals of operating in and around a vehicle. This course covers vehicle ballistics\, identifying effective points of cover\, proper carry and ready positions\, shooting positions at various distances from the vehicle\, weapons manipulation\, and the practical application of cover versus concealment. \nTopics include\n\nPoints of cover\nCarry positions/ ready positions\nShooting positions and distance from vehicle\nWeapons manipulation and ready positions\nCover and concealment (how to use them)\n\nGear Requirements \n\nClear Lens Eye Protection\nEar Protection\nPersonal Firearm: Pistol or AR .556 Rifle\nAmmo: At least 250 rounds\nMinimum of a second line (battle belt) with proper holster for pistol and 2x extra magazine pouch pistol. As well as at least 1x rifle pouch.\nSling if running a rifle\nPistol/ rifle Magazines & spare magazine pouch for additional mags\nWater / Snack\nProper range attire: Athletic\, tactical\, or comfortable clothing (pants & high-neckline shirt)\nNo low-cut tops (prevent hot brass burns)\nClosed-toe shoes\nDress for the weather\n\n\n\n\nCancellations: Full refund if cancelled within 30 days of class start.
URL:https://vanillagorillasecurity.com/register/defensive-vehicle-1-june
LOCATION:Aurora Sportsman’s Club\, 7858 Preserve Rd\, Waterman\, IL\, 60556\, United States
END:VEVENT
BEGIN:VEVENT
DTSTART;VALUE=DATE:20260605
DTEND;VALUE=DATE:20260608
DTSTAMP:20260425T070126
CREATED:20260212T165945Z
LAST-MODIFIED:20260316T144824Z
UID:10000008-1780617600-1780876799@vanillagorillasecurity.com
SUMMARY:3 Day Deliberate CQC Fundamentals at the Ranch
DESCRIPTION:Deliberate Close Quarters Clearance Fundamentals – 3 Days\n\n\n\n\nThis 24h course (8 a.m. – 4 p.m. each day) will equip students with a solid foundation & understanding for application of Deliberate CQC tactics. Whether students who attend this course come from an LE or civilian background\, the tactics learned will enable them to become better defenders of their communities & households. This course will involve the use of Ultimate Training Munitions & Live Fire. \n\nPrerequisites \nStudents who register must have prior training with their Rifle & Pistol at the intermediate level\, including some experience in shooting while moving. Students must also be proficient and familiar with operating the specific weapons platforms they will use for the course. \n\nTopics Covered \n\nDeliberate VS Dynamic CQC methodology\nActions at the door\nActions in the room\n2 & 4 Person room entry\nRoom pie methods (1&2 person)\nAngles/Cross cover\nBarricade clearance\nPrioritization of threats and target ID\nDe-escalation methods\nDeconfliction\nHallways & Stairways\n2 Person multiple-room clearance\nTeam sized full structure clearance\n\n  \nGear Requirements \n\nClear lens eye protection\nEar protection\nBallistic plate carrier\n\n\nPersonal Firearm: AR .556 Rifle & Pistol\nAmmo: At least 200 rounds\nOutside the waistband holster\nSling for rifle\nMagazines\nMagazine pouch’s (battle belts)\nProper range attire: Athletic\, tactical\, or comfortable clothing (pants & high-neckline shirt)\n\n\nCancellations: Full refund if cancelled within 30 days of class start.
URL:https://vanillagorillasecurity.com/register/3-day-deliberate-cqc-fundamentals-at-the-ranch/
LOCATION:The Ranch\, 10700 S Interstate Hwy 35\, Dilley\, TX\, 7801710700 S. Interstate Highway 35\, United States
END:VEVENT
BEGIN:VEVENT
DTSTART;TZID=America/Chicago:20260530T090000
DTEND;TZID=America/Chicago:20260530T150000
DTSTAMP:20260425T070126
CREATED:20260407T165834Z
LAST-MODIFIED:20260407T170805Z
UID:10000017-1780131600-1780153200@vanillagorillasecurity.com
SUMMARY:CQC Level 1
DESCRIPTION:Close Quarters Clearance – 1 Day\n\n\n\n\nCQC is often associated with military and law enforcement training\, but is just as applicable for civilians who want to learn how to defend themselves or their families from a home invasion. In CQC fundamentals\, students will learn how to move tactically in and around rooms and spaces that contain an active threat. \n\nThis is an introductory course to learn the fundamentals of 2 person deliberate clearance.  \n\nTopics include\n\nDeliberate CQC advantages and application\nDeliberate VS Dynamic (Hostage Rescue) philosophy\nWeapons positions during movement\nWeapons safety and manipulation\nActions at the door/threshold assessments\nRoom pie methods (1& 2 person)\n2 person actions inside the room\nPrioritization of threats and target identification\nDe-escalation methods from the threshold\n\nGear Requirements \n\nAR .556 style rifle with magazines\nIf students don’t have an AR\, they will be issued Glock UTM pistols and ammunition for an additional cost of $50\nEye protection\nFor your AR\, you need a standard lower and buffer assembly to be compatible with UTM bolts. (i.e. not a law tactical side folder or a JP silent capture bolt carrier)\n\n\n\n\nCancellations: Full refund if cancelled within 30 days of class start.
URL:https://vanillagorillasecurity.com/register/cqc-level-1-may-30
LOCATION:Groveland\, 18603 Springfield road\, Groveland\, IL\, United States
END:VEVENT
BEGIN:VEVENT
DTSTART;VALUE=DATE:20260523
DTEND;VALUE=DATE:20260525
DTSTAMP:20260425T070126
CREATED:20260420T165807Z
LAST-MODIFIED:20260420T165807Z
UID:10000022-1779494400-1779667199@vanillagorillasecurity.com
SUMMARY:2 Day CQC course (private booking for Nate Fakhouri group only)
DESCRIPTION:2 Day CQC course (private booking for Nate Fakhouri group only)\n\n\n\n\nCQC Fundamentals (2-Day Private Class) is designed for civilians who want to develop the skills and confidence to defend themselves and their families in a home defense scenario. While close-quarters combat is often associated with military and law enforcement\, its principles are highly applicable in everyday environments. Over the course of two days\, students will learn how to move tactically through rooms and confined spaces\, identify and respond to active threats\, and operate with greater awareness and control inside the home. \nTopics include\n\nDeliberate CQC advantages and application\nDeliberate vs. Dynamic (Hostage Rescue) philosophy\nWeapons positions during movement\nWeapons safety and manipulation\nActions at the door and threshold assessments\nRoom pie methods (1- and 2-person)\nTwo-person actions inside the room\nPrioritization of threats and target identification\nDe-escalation methods from the threshold\n\nGear Requirements \n\nAR .556 style rifle with magazines\nIf students don’t have an AR\, they will be issued Glock UTM pistols and ammunition for an additional cost of $50\nEye protection\nFor your AR\, you need a standard lower and buffer assembly to be compatible with UTM bolts. (i.e. not a law tactical side folder or a JP silent capture bolt carrier)\n\n\n\n\nCancellations: Full refund if canceled within 30 days of class start.
URL:https://vanillagorillasecurity.com/register/cqc-level-1-2-nate-fakhouri-group-only
LOCATION:Groveland\, 18603 Springfield road\, Groveland\, IL\, United States
END:VEVENT
BEGIN:VEVENT
DTSTART;TZID=America/Chicago:20260502T090000
DTEND;TZID=America/Chicago:20260502T150000
DTSTAMP:20260425T070126
CREATED:20260212T202251Z
LAST-MODIFIED:20260212T202251Z
UID:10000012-1777712400-1777734000@vanillagorillasecurity.com
SUMMARY:Live fire CQC Home Defense
DESCRIPTION:Live fire CQC Home Defense\n\n\n\n\nThis is an introductory course for students to learn the fundamentals of CQC in a home defense environment. \nTopics include\n\nDeliberate CQC advantages and application\nDeliberate VS Dynamic philosophy\nWeapons positions during movement\nWeapons safety and manipulation\nActions at the door/threshold assessments\nRoom pie methods (1 person)\n1 person actions inside the room\nPrioritization of threats and target identification\nDe-escalation methods from the threshold\n\nGear Requirements \n\nClear Lens Eye Protection\nEar Protection\nPersonal Firearm: Pistol or AR .556 Rifle\nAmmo: At least 60 rounds\nOutside or inside the waistband holster\nSling if running a rifle\nPistol/ rifle Magazines & spare magazine pouch for additional mags\nWater / Snack\nProper range attire:\nAthletic\, tactical\, or comfortable clothing (pants & high-neckline shirt)\nNo low-cut tops (prevent hot brass burns)\nClosed-toe shoes\nDress for the weather\n\n\n\n\nCancellations: Full refund if cancelled within 30 days of class start.
URL:https://vanillagorillasecurity.com/register/live-fire-cqc-home-defense-3/
LOCATION:Aurora Sportsman’s Club\, 7858 Preserve Rd\, Waterman\, IL\, 60556\, United States
END:VEVENT
BEGIN:VEVENT
DTSTART;TZID=America/Chicago:20260426T090000
DTEND;TZID=America/Chicago:20260426T150000
DTSTAMP:20260425T070126
CREATED:20260404T024344Z
LAST-MODIFIED:20260404T024344Z
UID:10000015-1777194000-1777215600@vanillagorillasecurity.com
SUMMARY:CQC Level 2
DESCRIPTION:Close Quarters Clearance – 1 Day\n\n\n\n\nCQC is often associated with military and law enforcement training\, but is just as applicable for civilians who want to learn how to defend themselves or their families from a home invasion. In CQC fundamentals\, students will learn how to move tactically in and around rooms and spaces that contain an active threat. \n\nThis is an introductory course to learn the fundamentals of 2 person deliberate clearance.  \n\nTopics include\n\nDeliberate CQC advantages and application\nDeliberate VS Dynamic (Hostage Rescue) philosophy\nWeapons positions during movement\nWeapons safety and manipulation\nActions at the door/threshold assessments\nRoom pie methods (1& 2 person)\n2 person actions inside the room\nPrioritization of threats and target identification\nDe-escalation methods from the threshold\n\nGear Requirements \n\nAR .556 style rifle with magazines\nIf students don’t have an AR\, they will be issued Glock UTM pistols and ammunition for an additional cost of $50\nEye protection\nFor your AR\, you need a standard lower and buffer assembly to be compatible with UTM bolts. (i.e. not a law tactical side folder or a JP silent capture bolt carrier)\n\n\n\n\nCancellations: Full refund if cancelled within 30 days of class start.
URL:https://vanillagorillasecurity.com/register/cqc-level-2
LOCATION:Peoria Location\, 3129 NE Madison Avenue\, Peoria\, IL\, 61603\, United States
END:VEVENT
BEGIN:VEVENT
DTSTART;TZID=America/Chicago:20260425T090000
DTEND;TZID=America/Chicago:20260425T150000
DTSTAMP:20260425T070126
CREATED:20260406T172943Z
LAST-MODIFIED:20260406T185328Z
UID:10000016-1777107600-1777129200@vanillagorillasecurity.com
SUMMARY:Live Fire Hostage Rescue CQC
DESCRIPTION:Live Fire Hostage Rescue CQC\n\n\n\n\nThis is an introductory course for students to learn the fundamentals of Live Fire Hostage Rescue CQC \nTopics include\n\nHR actions at the door\nHR actions in the room\nHR barricade clearance\nHR hallway/stairway movement\n\nGear Requirements \n\nClear Lens Eye Protection\nEar Protection\nPersonal Firearm: Pistol or AR .556 Rifle\nAmmo: At least 200 rounds\nOutside or inside the waistband holster\nSling if running a rifle\nPistol/ rifle Magazines & spare magazine pouch for additional mags\nWater / Snack\nProper range attire:\nAthletic\, tactical\, or comfortable clothing (pants & high-neckline shirt)\nNo low-cut tops (prevent hot brass burns)\nClosed-toe shoes\nDress for the weather\n\n\n\n\nCancellations: Full refund if cancelled within 30 days of class start.
URL:https://vanillagorillasecurity.com/live-fire-hostage-rescue-cqc
LOCATION:Aurora Sportsman’s Club\, 7858 Preserve Rd\, Waterman\, IL\, 60556\, United States
END:VEVENT
BEGIN:VEVENT
DTSTART;TZID=America/Chicago:20260418T090000
DTEND;TZID=America/Chicago:20260418T150000
DTSTAMP:20260425T070126
CREATED:20260212T202141Z
LAST-MODIFIED:20260212T202141Z
UID:10000011-1776502800-1776524400@vanillagorillasecurity.com
SUMMARY:Live fire CQC Home Defense
DESCRIPTION:Live fire CQC Home Defense\n\n\n\n\nThis is an introductory course for students to learn the fundamentals of CQC in a home defense environment. \nTopics include\n\nDeliberate CQC advantages and application\nDeliberate VS Dynamic philosophy\nWeapons positions during movement\nWeapons safety and manipulation\nActions at the door/threshold assessments\nRoom pie methods (1 person)\n1 person actions inside the room\nPrioritization of threats and target identification\nDe-escalation methods from the threshold\n\nGear Requirements \n\nClear Lens Eye Protection\nEar Protection\nPersonal Firearm: Pistol or AR .556 Rifle\nAmmo: At least 60 rounds\nOutside or inside the waistband holster\nSling if running a rifle\nPistol/ rifle Magazines & spare magazine pouch for additional mags\nWater / Snack\nProper range attire:\nAthletic\, tactical\, or comfortable clothing (pants & high-neckline shirt)\nNo low-cut tops (prevent hot brass burns)\nClosed-toe shoes\nDress for the weather\n\n\n\n\nCancellations: Full refund if cancelled within 30 days of class start.
URL:https://vanillagorillasecurity.com/register/live-fire-cqc-home-defense-2/
LOCATION:Aurora Sportsman’s Club\, 7858 Preserve Rd\, Waterman\, IL\, 60556\, United States
END:VEVENT
BEGIN:VEVENT
DTSTART;TZID=America/Chicago:20260404T090000
DTEND;TZID=America/Chicago:20260404T150000
DTSTAMP:20260425T070126
CREATED:20260212T202034Z
LAST-MODIFIED:20260212T202034Z
UID:10000010-1775293200-1775314800@vanillagorillasecurity.com
SUMMARY:Live fire CQC Home Defense
DESCRIPTION:Live fire CQC Home Defense\n\n\n\n\nThis is an introductory course for students to learn the fundamentals of CQC in a home defense environment. \nTopics include\n\nDeliberate CQC advantages and application\nDeliberate VS Dynamic philosophy\nWeapons positions during movement\nWeapons safety and manipulation\nActions at the door/threshold assessments\nRoom pie methods (1 person)\n1 person actions inside the room\nPrioritization of threats and target identification\nDe-escalation methods from the threshold\n\nGear Requirements \n\nClear Lens Eye Protection\nEar Protection\nPersonal Firearm: Pistol or AR .556 Rifle\nAmmo: At least 60 rounds\nOutside or inside the waistband holster\nSling if running a rifle\nPistol/ rifle Magazines & spare magazine pouch for additional mags\nWater / Snack\nProper range attire:\nAthletic\, tactical\, or comfortable clothing (pants & high-neckline shirt)\nNo low-cut tops (prevent hot brass burns)\nClosed-toe shoes\nDress for the weather\n\n\n\n\nCancellations: Full refund if cancelled within 30 days of class start.
URL:https://vanillagorillasecurity.com/register/live-fire-cqc-home-defense/
LOCATION:Aurora Sportsman’s Club\, 7858 Preserve Rd\, Waterman\, IL\, 60556\, United States
END:VEVENT
BEGIN:VEVENT
DTSTART;TZID=America/Chicago:20260328T090000
DTEND;TZID=America/Chicago:20260328T150000
DTSTAMP:20260425T070126
CREATED:20260212T165740Z
LAST-MODIFIED:20260212T165812Z
UID:10000007-1774688400-1774710000@vanillagorillasecurity.com
SUMMARY:CQC Level 1
DESCRIPTION:Close Quarters Clearance – 1 Day\n\n\n\n\nCQC is often associated with military and law enforcement training\, but is just as applicable for civilians who want to learn how to defend themselves or their families from a home invasion. In CQC fundamentals\, students will learn how to move tactically in and around rooms and spaces that contain an active threat. \n\nThis is an introductory course to learn the fundamentals of 2 person deliberate clearance.  \n\nTopics include\n\nDeliberate CQC advantages and application\nDeliberate VS Dynamic (Hostage Rescue) philosophy\nWeapons positions during movement\nWeapons safety and manipulation\nActions at the door/threshold assessments\nRoom pie methods (1& 2 person)\n2 person actions inside the room\nPrioritization of threats and target identification\nDe-escalation methods from the threshold\n\nGear Requirements \n\nAR .556 style rifle with magazines\nIf students don’t have an AR\, they will be issued Glock UTM pistols and ammunition for an additional cost of $50\nEye protection\nFor your AR\, you need a standard lower and buffer assembly to be compatible with UTM bolts. (i.e. not a law tactical side folder or a JP silent capture bolt carrier)\n\n\n\n\nCancellations: Full refund if cancelled within 30 days of class start.
URL:https://vanillagorillasecurity.com/register/cqc-level-1/
LOCATION:Peoria Location\, 3129 NE Madison Avenue\, Peoria\, IL\, 61603\, United States
END:VEVENT
BEGIN:VEVENT
DTSTART;TZID=America/Chicago:20260321T090000
DTEND;TZID=America/Chicago:20260321T150000
DTSTAMP:20260425T070126
CREATED:20260212T165420Z
LAST-MODIFIED:20260212T200814Z
UID:10000006-1774083600-1774105200@vanillagorillasecurity.com
SUMMARY:CQC Sustainment
DESCRIPTION:CQC Sustainment\n\n\n\n\nIn order to register students must have completed CQC levels 1-3 \nGear Requirements \n\nAR .556 style rifle with magazines\nIf students don’t have an AR\, they will be issued Glock UTM pistols and ammunition for an additional cost of $50\nEye protection\nFor your AR\, you need a standard lower and buffer assembly to be compatible with UTM bolts. (i.e. not a law tactical side folder or a JP silent capture bolt carrier)\n\n\n\n\nCancellations: Full refund if cancelled within 30 days of class start.
URL:https://vanillagorillasecurity.com/register/cqc-sustainment/
LOCATION:Facility X\, 3280 east end ave\, South Chicago Heights\, 60411\, United States
END:VEVENT
BEGIN:VEVENT
DTSTART;TZID=America/Chicago:20260110T140000
DTEND;TZID=America/Chicago:20260110T170000
DTSTAMP:20260425T070126
CREATED:20260113T151554Z
LAST-MODIFIED:20260113T164939Z
UID:10000003-1768053600-1768064400@vanillagorillasecurity.com
SUMMARY:CQC Level 3
DESCRIPTION:CLOSE QUARTERS CLEARANCE (CQC)\nCQC is often associated with military and law enforcement training but is just as applicable for civilians who want to learn how to defend themselves or their families from a home invasion. In CQC fundamentals students will learn how to move tactically in and around rooms and spaces that contain an active threat. \n\n\n\n\n\n\n\n\n\n\n\n\n\n\n\nObjective​\nVGS instructors will give examples of combat missions that changed the CQC tactics that the SEAL teams formerly used to what they use today and how these tactics translate over to civilians defending themselves in their homes. Students are supplied with ultimate training munitions blue bolts and paint ammunition for their rifles which except for live fire is the most realistic way to train in a CQC environment. \n  \n\n\n\n\n\n\n\n\n\nCQC 1-4 level courses in Peoria\, IL Gear\n\n\n\n\n\nAR .556 style rifle with magazines\nIf students don’t have an AR\, they will be issued Glock UTM pistols and ammunition for an additional cost of $50\nEye protection\nFor your AR\, you need a standard lower and buffer assembly to be compatible with UTM bolts. (i.e. not a law tactical side folder or a JP silent capture bolt carrier)
URL:https://vanillagorillasecurity.com/register/cqc-level-3/
LOCATION:IL
END:VEVENT
END:VCALENDAR